BEGIN:VCALENDAR
VERSION:2.0
PRODID:-//wp-events-plugin.com//7.2.3.1//EN
BEGIN:VEVENT
UID:256@canceropole-clara.com
DTSTART;VALUE=DATE:20261119
DTEND;VALUE=DATE:20261121
DTSTAMP:20260305T113812Z
URL:https://www.canceropole-clara.com/events/%f0%9d%90%82%f0%9d%90%a8%f0%9
 d%90%a7%f0%9d%90%a0%f0%9d%90%ab%f0%9d%90%9e%f0%9d%90%ac-%f0%9d%90%8d%f0%9d
 %90%9a%f0%9d%90%ad%f0%9d%90%a2%f0%9d%90%a8%f0%9d%90%a7%f0%9d%90%9a%f0%9d%9
 0%a5-%f0%9d%90%9d/
SUMMARY:𝐂𝐨𝐧𝐠𝐫𝐞̀𝐬 𝐍𝐚𝐭𝐢𝐨𝐧𝐚𝐥 
 𝐝𝐞𝐬 𝐑𝐞́𝐬𝐞𝐚𝐮𝐱 𝐝𝐞 𝐂𝐚𝐧𝐜𝐞
 ́𝐫𝐨𝐥𝐨𝐠𝐢𝐞
DESCRIPTION:Cette année\, la nouvelle édition du CNRC est portée par ONC
 O AURA\, Dispositif Spécifique Régional du Cancer et aura pour thème : 
 « 𝐓𝐫𝐚𝐢𝐭𝐞𝐦𝐞𝐧𝐭𝐬 𝐞𝐭 𝐢𝐧𝐧𝐨
 𝐯𝐚𝐭𝐢𝐨𝐧𝐬 𝐩𝐨𝐮𝐫 𝐭𝐨𝐮𝐬 : 𝐜𝐨
 𝐦𝐦𝐞𝐧𝐭 𝐚𝐬𝐬𝐮𝐫𝐞𝐫 𝐥𝐚 𝐬𝐨𝐮
 𝐭𝐞𝐧𝐚𝐛𝐢𝐥𝐢𝐭𝐞́ 𝐝𝐮 𝐬𝐲𝐬𝐭𝐞̀
 𝐦𝐞 𝐝𝐞 𝐬𝐚𝐧𝐭𝐞́ ? »\n\nDeux journées dédiée a
 ux enjeux actuels de la cancérologie\, à la prévention\, à l’accès 
 aux soins et aux actualités qui entourent notre spécialité.\n\nUn rende
 z-vous national incontournable pour :\n➡️ 𝐩𝐚𝐫𝐭𝐚𝐠𝐞
 𝐫 𝐥𝐞𝐬 𝐫𝐞𝐭𝐨𝐮𝐫𝐬 𝐝’𝐞𝐱𝐩𝐞́
 𝐫𝐢𝐞𝐧𝐜𝐞 𝐝𝐞𝐬 𝐭𝐞𝐫𝐫𝐢𝐭𝐨𝐢𝐫
 𝐞𝐬\n➡️ 𝐞́𝐜𝐡𝐚𝐧𝐠𝐞𝐫 𝐚𝐮𝐭𝐨𝐮
 𝐫 𝐝𝐞𝐬 𝐢𝐧𝐧𝐨𝐯𝐚𝐭𝐢𝐨𝐧𝐬 𝐨𝐫
 𝐠𝐚𝐧𝐢𝐬𝐚𝐭𝐢𝐨𝐧𝐧𝐞𝐥𝐥𝐞𝐬 𝐞𝐭 
 𝐝𝐞𝐬 𝐩𝐫𝐚𝐭𝐢𝐪𝐮𝐞𝐬 𝐩𝐫𝐨𝐟𝐞𝐬
 𝐬𝐢𝐨𝐧𝐧𝐞𝐥𝐥𝐞𝐬\n➡️ 𝐫𝐞𝐧𝐟𝐨𝐫
 𝐜𝐞𝐫 𝐥𝐞𝐬 𝐜𝐨𝐨𝐩𝐞́𝐫𝐚𝐭𝐢𝐨𝐧
 𝐬 𝐞𝐧𝐭𝐫𝐞 𝐚𝐜𝐭𝐞𝐮𝐫𝐬 𝐝𝐞 𝐥𝐚 
 𝐜𝐚𝐧𝐜𝐞́𝐫𝐨𝐥𝐨𝐠𝐢𝐞\n\n𝐉𝐞𝐮𝐝𝐢
  𝟏𝟗 𝐞𝐭 𝐯𝐞𝐧𝐝𝐫𝐞𝐝𝐢 𝟐𝟎 𝐧𝐨𝐯
 𝐞𝐦𝐛𝐫𝐞 𝟐𝟎𝟐𝟔\n📍 Centre des Congrès de Lyon\n
 📝 Les inscriptions sont ouvertes : https://lnkd.in/eVUNvy2f\n\nPré-pr
 ogramme (en cours) : https://lnkd.in/eaKaEr2U\n\nℹ️ Plus d'infos : htt
 ps://lnkd.in/dH6nUTZ5
CATEGORIES:Autres événements
END:VEVENT
END:VCALENDAR