BEGIN:VCALENDAR
VERSION:2.0
PRODID:-//wp-events-plugin.com//7.2.3.1//EN
BEGIN:VEVENT
UID:238@canceropole-clara.com
DTSTART;VALUE=DATE:20260611
DTEND;VALUE=DATE:20260613
DTSTAMP:20260120T142711Z
URL:https://www.canceropole-clara.com/events/17eme-congres-sfco/
SUMMARY:17ème congrès SFCO
DESCRIPTION: 17e congrès de la SFCO\, 11 et 12 juin 2026 à l’Embarcad
 ère de Lyon.\n\nRendez-vous sur « Les futurs défis de la chirurgie onco
 logique ».\n\nProgramme &gt\;&gt\;
CATEGORIES:Autres événements
END:VEVENT
END:VCALENDAR