BEGIN:VCALENDAR
VERSION:2.0
PRODID:-//wp-events-plugin.com//7.2.3.1//EN
BEGIN:VEVENT
UID:276@canceropole-clara.com
DTSTART:20261210T000000Z
DTEND:20261211T000000Z
DTSTAMP:20260420T103548Z
URL:https://www.canceropole-clara.com/events/biofit-medfit/
SUMMARY:BioFIT & MedFIT 2026
DESCRIPTION:\n⭐ Le Cancéropôle CLARA accompagne BioFIT et MedFIT en tan
 t que partenaire !\nRendez-vous à Marseille\, les 10 et 11 décembre 2026
 .\n\nOrganisés conjointement\, soyez au cœur des conventions d’affaire
 s dédiées à l’innovation partenariale dans les secteurs des Sciences 
 du Vivant\, des Technologies Médicales\, du Diagnostic et de la Santé Di
 gitale.\n📌 BioFIT &amp\; MedFIT 2026 - chiffres attendus\n\n 	1 300 par
 ticipants internationaux\n 	35 pays représentés\n 	160 exposants\n 	100 
 intervenants\n\nProfitez d’une réduction exclusive grâce à notre part
 enariat !\nContactez-nous dès maintenant à l'adresse infos@canceropole-
 clara.com pour obtenir votre code de réduction.\n\nPuis inscrivez-vous 
 directement sur le site - https://www.biofit-event.com/registration-fees-b
 iofit-medfit/\n\nLes réductions s’appliquent toujours sur le tarif « r
 egular » excepté durant la période « late registration ». Les réduct
 ions ne sont pas cumulables avec d’autres offres.\nContact\nMarine PENTI
 ER – Business Development Manager\nmpentier@eurasante.com | 03 59 39 01 
 88
CATEGORIES:Evénements CLARA
END:VEVENT
END:VCALENDAR