BEGIN:VCALENDAR
VERSION:2.0
PRODID:-//wp-events-plugin.com//7.2.3.1//EN
BEGIN:VEVENT
UID:191@canceropole-clara.com
DTSTART:20251107T110000Z
DTEND:20251107T120000Z
DTSTAMP:20251008T093756Z
URL:https://www.canceropole-clara.com/events/informative-larc-de-defaveur-
 de-la-region-auvergne-rhone-alpes-comprendre-analyser-et-agir-sur-les-dete
 rminants-de-sante-en-oncologie-avec-et-pour-les-patients/
SUMMARY:Informative "L’Arc de défaveur de la région Auvergne-Rhône-Alp
 es : comprendre\, analyser et agir sur les déterminants de santé en onco
 logie\, avec et pour les patients"
DESCRIPTION:\n\nCette nouvelle session des Informatives du CLARA\, co-organ
 isée avec le groupe de travail ECLAIR et les comités départementaux de 
 la Ligue contre le cancer partenaires du Cancéropôle CLARA\, a pour but 
 de présenter l’appel à projets OncoStarter Thématisé 2026 « Arc de 
 défaveur en AuRA : comprendre\, analyser et agir sur les déterminants de
  santé en oncologie\, avec et pour les patients* » et de répondre aux 
 questions des participants. \n\nElle se déroulera en visioconférence (T
 eams) le vendredi 7 novembre\, à 11h00.\n\nLa présentation et les échan
 ges porteront sur les critères d’éligibilité et le partenariat patien
 t/chercheur\, obligatoire dans le cadre de cet AÀP.\n\nL’appel à proje
 ts est ouvert aux trois domaines d’innovation du CLARA (Innovations biom
 édicales\, Prévention &amp\; Innovations Sociales\, Innovations en techn
 ologie de la santé)\, et donc à l’ensemble des disciplines scientifiqu
 es et médicales pouvant se saisir de cet enjeu.\n\nTous les acteurs dési
 reux de construire\, déployer et valoriser un projet de recherche en part
 enariat avec des patients et/ou des aidants sont invités à candidater\, 
 quelle que soit leur expérience dans la recherche partenariale. L’appel
  à projets est ainsi ouvert à tout porteur de projet désireux d’initi
 er une première collaboration avec des patients ou aidants.\n\nCette sess
 ion des Informatives constituent une opportunité pour répondre à vos qu
 estions sur le montage d’un projet de recherche partenarial.\n\n(*) Malg
 ré une situation globalement favorable par rapport à la moyenne national
 e en matière d’incidence et de mortalité des cancers\, la région Auve
 rgne Rhône-Alpes est marquée par de fortes disparités territoriales. Un
  « arc de défaveur cancers »\, situé principalement à l’ouest et au
  sud de la région (ex-Auvergne\, sud Drôme et sud Ardèche)\, cumule des
  indicateurs préoccupants.\n\nInscription obligatoire ci-dessous et lien 
 visio après inscription
CATEGORIES:Informatives
END:VEVENT
END:VCALENDAR