BEGIN:VCALENDAR
VERSION:2.0
PRODID:-//wp-events-plugin.com//7.2.3.1//EN
BEGIN:VEVENT
UID:273@canceropole-clara.com
DTSTART;VALUE=DATE:20260617
DTEND;VALUE=DATE:20260620
DTSTAMP:20260409T133821Z
URL:https://www.canceropole-clara.com/events/onco-startup-summit-paris/
SUMMARY:Onco Startup Summit - Paris
DESCRIPTION:9ème édition des IFODS (International and French Oncology 
 Days) aura lieu à Paris\, du mercredi 17 au vendredi 19 juin 2026 au C
 entre de Conférences Novotel Tour Eiffel – 61 quai de Grenelle\, 75015 
 Paris.\nPour la quatrième fois\, une journée entière du congrès\, le
  jeudi 18 juin 2026\, sera consacrée aux start-ups de l’oncologie. Int
 itulée « Onco Startup Summit »\, elle sera organisée conjointement p
 ar Angels Santé\, Gustave Roussy Transfert\, MATWIN\, OncoStart\, le PSC
 C (Paris Saclay Cancer Cluster) et le Réseau SATT. Cette journée est g
 ratuite mais l’inscription est obligatoire \, vous trouverez un lien dé
 dié dans l’onglet inscription.\nCette journée sera l’occasion de dé
 bats\, tables rondes\, regards croisés\, interviews… De nombreux échan
 ges sur les thèmes d’actualité de l’écosystème avec la présence d
 es différents acteurs : entrepreneurs\, investisseurs… Et bien sûr\, v
 ous retrouverez dans cette journée deux temps forts consacrés à des pit
 chs de startups de l’oncologie !\nLes Pitchs de l’Onco Startup Summit\
 nVous êtes une start-up créée depuis moins de 5 ans ou en cours de cré
 ation dans le domaine biotech\, medtech\, e-santé\, diagnostic\, dévelop
 pant des projets innovants en oncologie ! Vous souhaitez présenter votre 
 entreprise devant un public d’oncologues\, d’investisseurs\, de parten
 aires potentiels\, et interagir avec un panel d’experts… alors :\nPost
 ulez d’ici le lundi 14 avril 2026 au plus tard à nos sessions pitchs 
 pour donner une vraie visibilité à vos projets ! Vous trouverez sur le s
 ite du congrès un formulaire dédié pour le déposer en ligne : Onco Sta
 rtup Summit abstract submission. Ce formulaire contient des instructions c
 omplémentaires sur les informations et les points à mettre en avant dans
  l’abstract.\nPitch de présentation de votre projet (7 min) devant l’
 auditoire d’IFODS en présence d’experts en oncologie\, d’investisse
 urs et de potentiels partenaires. UNE OPPORTUNITÉ POUR BOOSTER D’ÉVEN
 TUELS PARTENARIATS.\n8 à 10 pitchs seront retenus par le jury et seront p
 résentés en direct dans la session « Pitch Onco Startup Summit » le je
 udi 18 juin 2026.\nLes startups sélectionnées pourront avoir leur abstra
 ct\, si elles en sont d’accord\, dans le numéro spécial ITO (Innovatio
 ns &amp\; Thérapeutiques en Oncologie\, revue scientifique d’Unicancer)
  distribué sur le congrès et routé aux abonnés de la revue\, et pourro
 nt présenter un poster sur leur innovation.\nLes 8 à 10 startups retenue
 s pour pitcher pourront publier\, si elles le souhaitent\, dans un format 
 plus détaillé\, un article en lien avec le pitch tout au long de l’ann
 ée 2026/2027 dans la revue ITO.\nInformation et inscription &gt\;&gt\;
CATEGORIES:Autres événements
END:VEVENT
END:VCALENDAR