BEGIN:VCALENDAR
VERSION:2.0
PRODID:-//wp-events-plugin.com//7.2.3.1//EN
BEGIN:VEVENT
UID:237@canceropole-clara.com
DTSTART;VALUE=DATE:20260702
DTEND;VALUE=DATE:20260704
DTSTAMP:20260120T142209Z
URL:https://www.canceropole-clara.com/events/oncoriales-journees-dediees-a
 -la-cancerologie-pour-les-jeunes-chercheurs-soignants-patients-partenaires
 /
SUMMARY:Oncoriales : Journées dédiées à la cancérologie pour les jeune
 s chercheurs\, soignants\, patients partenaires
DESCRIPTION:Événement unique en France et organisé tous les deux ans\, l
 es Oncoriales réunissent\, pendant 2 jours\, une centaine de patients\, j
 eunes chercheurs et soignants en cancérologie de la région Auvergne-Rh
 ône-Alpes.\nL’objectif : présenter aux leaders de demain les enjeux ac
 tuels et futurs de la cancérologie en termes de recherche scientifique\, 
 d’organisation des soins et de transformation des métiers\, et favorise
 r l’interconnaissance au sein d’une communauté riche de multiples co
 mpétences.\n\nEntièrement gratuit (mais sous caution)\, l’événement 
 propose plusieurs temps forts : des séances plénières invitant des expe
 rts reconnus (chercheurs\, cliniciens\, patients experts…) à présenter
  leurs travaux et leur vision de l’évolution de la cancérologie\, des 
 ateliers participatifs permettant de monter en compétence sur des sujets 
 transversaux et des moments partagés contribuant à l’interconnaissance
 .\n\nProgramme complet à venir en février 2026 !\n\n&nbsp\;\nOù ?\nDes 
 bus seront affrétés gratuitement depuis Lyon\, Clermont-Ferrand et Greno
 ble.\nLes Oncoriales 2026 se dérouleront à l'hôtel Admiral\, 2 All. du 
 Levant\, 69890 La Tour-de-Salvagny
CATEGORIES:Evénements CLARA
END:VEVENT
END:VCALENDAR